BEGIN:VCALENDAR
VERSION:2.0
PRODID:JMS Hockey
X-PUBLISHED-TTL:P1W
BEGIN:VEVENT
UID:69e7ad7a3e631
DTSTART:20091021T020000Z
SEQUENCE:0
TRANSP:OPAQUE
DTEND:20091021T033000Z
URL:http://jmshockey.com/games/945
LOCATION:Doug Woog Arena (Wakota)
SUMMARY:Level 3 Game at Doug Woog Arena (Wakota)
CLASS:PUBLIC
DTSTAMP:20260421T120146Z
END:VEVENT
END:VCALENDAR