BEGIN:VCALENDAR
VERSION:2.0
PRODID:JMS Hockey
X-PUBLISHED-TTL:P1W
BEGIN:VEVENT
UID:69e765847b741
DTSTART:20161210T034500Z
SEQUENCE:0
TRANSP:OPAQUE
DTEND:20161210T051500Z
URL:http://jmshockey.com/games/9430
LOCATION:St Louis Park Rec Center
SUMMARY:Novice Game at St Louis Park Rec Center
CLASS:PUBLIC
DTSTAMP:20260421T065444Z
END:VEVENT
END:VCALENDAR