BEGIN:VCALENDAR
VERSION:2.0
PRODID:JMS Hockey
X-PUBLISHED-TTL:P1W
BEGIN:VEVENT
UID:69e7adcda65b3
DTSTART:20161230T034000Z
SEQUENCE:0
TRANSP:OPAQUE
DTEND:20161230T051000Z
URL:http://jmshockey.com/games/9426
LOCATION:St Thomas Ice Arena
SUMMARY:All level Game at St Thomas Ice Arena
CLASS:PUBLIC
DTSTAMP:20260421T120309Z
END:VEVENT
END:VCALENDAR