BEGIN:VCALENDAR
VERSION:2.0
PRODID:JMS Hockey
X-PUBLISHED-TTL:P1W
BEGIN:VEVENT
UID:69e7bfd1d8a6e
DTSTART:20161223T034000Z
SEQUENCE:0
TRANSP:OPAQUE
DTEND:20161223T051000Z
URL:http://jmshockey.com/games/9425
LOCATION:St Thomas Ice Arena
SUMMARY:All level Game at St Thomas Ice Arena
CLASS:PUBLIC
DTSTAMP:20260421T132001Z
END:VEVENT
END:VCALENDAR