BEGIN:VCALENDAR
VERSION:2.0
PRODID:JMS Hockey
X-PUBLISHED-TTL:P1W
BEGIN:VEVENT
UID:69e79d80edadd
DTSTART:20161216T034000Z
SEQUENCE:0
TRANSP:OPAQUE
DTEND:20161216T051000Z
URL:http://jmshockey.com/games/9424
LOCATION:St Thomas Ice Arena
SUMMARY:All level Game at St Thomas Ice Arena
CLASS:PUBLIC
DTSTAMP:20260421T105336Z
END:VEVENT
END:VCALENDAR