BEGIN:VCALENDAR
VERSION:2.0
PRODID:JMS Hockey
X-PUBLISHED-TTL:P1W
BEGIN:VEVENT
UID:69e7a77c4c377
DTSTART:20161111T035000Z
SEQUENCE:0
TRANSP:OPAQUE
DTEND:20161111T052000Z
URL:http://jmshockey.com/games/9420
LOCATION:St Thomas Ice Arena
SUMMARY:All level Game at St Thomas Ice Arena
CLASS:PUBLIC
DTSTAMP:20260421T113612Z
END:VEVENT
END:VCALENDAR