BEGIN:VCALENDAR
VERSION:2.0
PRODID:JMS Hockey
X-PUBLISHED-TTL:P1W
BEGIN:VEVENT
UID:69e7adcfba95b
DTSTART:20161127T040000Z
SEQUENCE:0
TRANSP:OPAQUE
DTEND:20161127T053000Z
URL:http://jmshockey.com/games/9416
LOCATION:St Thomas Ice Arena
SUMMARY:All level Game at St Thomas Ice Arena
CLASS:PUBLIC
DTSTAMP:20260421T120311Z
END:VEVENT
END:VCALENDAR