BEGIN:VCALENDAR
VERSION:2.0
PRODID:JMS Hockey
X-PUBLISHED-TTL:P1W
BEGIN:VEVENT
UID:69e79fcc30342
DTSTART:20161227T034000Z
SEQUENCE:0
TRANSP:OPAQUE
DTEND:20161227T051000Z
URL:http://jmshockey.com/games/9413
LOCATION:St Thomas Ice Arena
SUMMARY:Elite Game at St Thomas Ice Arena
CLASS:PUBLIC
DTSTAMP:20260421T110324Z
END:VEVENT
END:VCALENDAR