BEGIN:VCALENDAR
VERSION:2.0
PRODID:JMS Hockey
X-PUBLISHED-TTL:P1W
BEGIN:VEVENT
UID:69e7b9db9828e
DTSTART:20161213T034000Z
SEQUENCE:0
TRANSP:OPAQUE
DTEND:20161213T051000Z
URL:http://jmshockey.com/games/9411
LOCATION:St Thomas Ice Arena
SUMMARY:Elite Game at St Thomas Ice Arena
CLASS:PUBLIC
DTSTAMP:20260421T125435Z
END:VEVENT
END:VCALENDAR