BEGIN:VCALENDAR
VERSION:2.0
PRODID:JMS Hockey
X-PUBLISHED-TTL:P1W
BEGIN:VEVENT
UID:69e7ba0a1347a
DTSTART:20161129T034000Z
SEQUENCE:0
TRANSP:OPAQUE
DTEND:20161129T051000Z
URL:http://jmshockey.com/games/9410
LOCATION:St Thomas Ice Arena
SUMMARY:Elite Game at St Thomas Ice Arena
CLASS:PUBLIC
DTSTAMP:20260421T125522Z
END:VEVENT
END:VCALENDAR