BEGIN:VCALENDAR
VERSION:2.0
PRODID:JMS Hockey
X-PUBLISHED-TTL:P1W
BEGIN:VEVENT
UID:69e7ca415de33
DTSTART:20081011T003000Z
SEQUENCE:0
TRANSP:OPAQUE
DTEND:20081011T020000Z
URL:http://jmshockey.com/games/94
LOCATION:Richfield Ice Arena
SUMMARY:Level 2 Game at Richfield Ice Arena
CLASS:PUBLIC
DTSTAMP:20260421T140433Z
END:VEVENT
END:VCALENDAR