BEGIN:VCALENDAR
VERSION:2.0
PRODID:JMS Hockey
X-PUBLISHED-TTL:P1W
BEGIN:VEVENT
UID:69e78e069290e
DTSTART:20161110T040000Z
SEQUENCE:0
TRANSP:OPAQUE
DTEND:20161110T053000Z
URL:http://jmshockey.com/games/9389
LOCATION:Maple Grove
SUMMARY:Upper Level Game at Maple Grove
CLASS:PUBLIC
DTSTAMP:20260421T094734Z
END:VEVENT
END:VCALENDAR