BEGIN:VCALENDAR
VERSION:2.0
PRODID:JMS Hockey
X-PUBLISHED-TTL:P1W
BEGIN:VEVENT
UID:69e7ad814d8d0
DTSTART:20161209T033000Z
SEQUENCE:0
TRANSP:OPAQUE
DTEND:20161209T050000Z
URL:http://jmshockey.com/games/9375
LOCATION:Maple Grove
SUMMARY:Lower Level Game at Maple Grove
CLASS:PUBLIC
DTSTAMP:20260421T120153Z
END:VEVENT
END:VCALENDAR