BEGIN:VCALENDAR
VERSION:2.0
PRODID:JMS Hockey
X-PUBLISHED-TTL:P1W
BEGIN:VEVENT
UID:69e787c8cc5ff
DTSTART:20161202T041500Z
SEQUENCE:0
TRANSP:OPAQUE
DTEND:20161202T054500Z
URL:http://jmshockey.com/games/9374
LOCATION:Maple Grove
SUMMARY:Lower Level Game at Maple Grove
CLASS:PUBLIC
DTSTAMP:20260421T092056Z
END:VEVENT
END:VCALENDAR