BEGIN:VCALENDAR
VERSION:2.0
PRODID:JMS Hockey
X-PUBLISHED-TTL:P1W
BEGIN:VEVENT
UID:69e77a59b12ae
DTSTART:20161104T024500Z
SEQUENCE:0
TRANSP:OPAQUE
DTEND:20161104T041500Z
URL:http://jmshockey.com/games/9372
LOCATION:Maple Grove
SUMMARY:Lower Level Game at Maple Grove
CLASS:PUBLIC
DTSTAMP:20260421T082337Z
END:VEVENT
END:VCALENDAR