BEGIN:VCALENDAR
VERSION:2.0
PRODID:JMS Hockey
X-PUBLISHED-TTL:P1W
BEGIN:VEVENT
UID:69e7d61f34db9
DTSTART:20091017T023000Z
SEQUENCE:0
TRANSP:OPAQUE
DTEND:20091017T040000Z
URL:http://jmshockey.com/games/937
LOCATION:Richfield Ice Arena
SUMMARY:Level 3 Game at Richfield Ice Arena
CLASS:PUBLIC
DTSTAMP:20260421T145511Z
END:VEVENT
END:VCALENDAR