BEGIN:VCALENDAR
VERSION:2.0
PRODID:JMS Hockey
X-PUBLISHED-TTL:P1W
BEGIN:VEVENT
UID:69e79a206e7d7
DTSTART:20161215T173000Z
SEQUENCE:0
TRANSP:OPAQUE
DTEND:20161215T191500Z
URL:http://jmshockey.com/games/9368
LOCATION:Eden Prairie Comm Ctr
SUMMARY:All level Game at Eden Prairie Comm Ctr
CLASS:PUBLIC
DTSTAMP:20260421T103912Z
END:VEVENT
END:VCALENDAR