BEGIN:VCALENDAR
VERSION:2.0
PRODID:JMS Hockey
X-PUBLISHED-TTL:P1W
BEGIN:VEVENT
UID:69e7ad7d6e4a3
DTSTART:20161224T014500Z
SEQUENCE:0
TRANSP:OPAQUE
DTEND:20161224T031500Z
URL:http://jmshockey.com/games/9363
LOCATION:Eden Prairie Comm Ctr
SUMMARY:Intermediate Game at Eden Prairie Comm Ctr
CLASS:PUBLIC
DTSTAMP:20260421T120149Z
END:VEVENT
END:VCALENDAR