BEGIN:VCALENDAR
VERSION:2.0
PRODID:JMS Hockey
X-PUBLISHED-TTL:P1W
BEGIN:VEVENT
UID:69e7730002945
DTSTART:20161203T030000Z
SEQUENCE:0
TRANSP:OPAQUE
DTEND:20161203T043000Z
URL:http://jmshockey.com/games/9360
LOCATION:Eden Prairie Comm Ctr
SUMMARY:Intermediate Game at Eden Prairie Comm Ctr
CLASS:PUBLIC
DTSTAMP:20260421T075216Z
END:VEVENT
END:VCALENDAR