BEGIN:VCALENDAR
VERSION:2.0
PRODID:JMS Hockey
X-PUBLISHED-TTL:P1W
BEGIN:VEVENT
UID:69e7ade9bbca3
DTSTART:20161207T031500Z
SEQUENCE:0
TRANSP:OPAQUE
DTEND:20161207T044500Z
URL:http://jmshockey.com/games/9354
LOCATION:Eden Prairie Comm Ctr
SUMMARY:Upper Level Game at Eden Prairie Comm Ctr
CLASS:PUBLIC
DTSTAMP:20260421T120337Z
END:VEVENT
END:VCALENDAR