BEGIN:VCALENDAR
VERSION:2.0
PRODID:JMS Hockey
X-PUBLISHED-TTL:P1W
BEGIN:VEVENT
UID:69e7c31ee564d
DTSTART:20161123T031500Z
SEQUENCE:0
TRANSP:OPAQUE
DTEND:20161123T044500Z
URL:http://jmshockey.com/games/9352
LOCATION:Eden Prairie Comm Ctr
SUMMARY:Upper Level Game at Eden Prairie Comm Ctr
CLASS:PUBLIC
DTSTAMP:20260421T133406Z
END:VEVENT
END:VCALENDAR