BEGIN:VCALENDAR
VERSION:2.0
PRODID:JMS Hockey
X-PUBLISHED-TTL:P1W
BEGIN:VEVENT
UID:69e7ad73d50e0
DTSTART:20161221T033000Z
SEQUENCE:0
TRANSP:OPAQUE
DTEND:20161221T050000Z
URL:http://jmshockey.com/games/9342
LOCATION:Apple Valley Sports Arena
SUMMARY:Lower Level Game at Apple Valley Sports Arena
CLASS:PUBLIC
DTSTAMP:20260421T120139Z
END:VEVENT
END:VCALENDAR