BEGIN:VCALENDAR
VERSION:2.0
PRODID:JMS Hockey
X-PUBLISHED-TTL:P1W
BEGIN:VEVENT
UID:69e7aded00e0e
DTSTART:20161116T033000Z
SEQUENCE:0
TRANSP:OPAQUE
DTEND:20161116T050000Z
URL:http://jmshockey.com/games/9337
LOCATION:Apple Valley Sports Arena
SUMMARY:Lower Level Game at Apple Valley Sports Arena
CLASS:PUBLIC
DTSTAMP:20260421T120341Z
END:VEVENT
END:VCALENDAR