BEGIN:VCALENDAR
VERSION:2.0
PRODID:JMS Hockey
X-PUBLISHED-TTL:P1W
BEGIN:VEVENT
UID:69e7c3b8261b5
DTSTART:20161109T030000Z
SEQUENCE:0
TRANSP:OPAQUE
DTEND:20161109T043000Z
URL:http://jmshockey.com/games/9336
LOCATION:Apple Valley Sports Arena
SUMMARY:Lower Level Game at Apple Valley Sports Arena
CLASS:PUBLIC
DTSTAMP:20260421T133640Z
END:VEVENT
END:VCALENDAR