BEGIN:VCALENDAR
VERSION:2.0
PRODID:JMS Hockey
X-PUBLISHED-TTL:P1W
BEGIN:VEVENT
UID:69e7d61faf391
DTSTART:20161012T023000Z
SEQUENCE:0
TRANSP:OPAQUE
DTEND:20161012T040000Z
URL:http://jmshockey.com/games/9326
LOCATION:Apple Valley Hayes Park Arena
SUMMARY:Lower Level Game at Apple Valley Hayes Park Arena
CLASS:PUBLIC
DTSTAMP:20260421T145511Z
END:VEVENT
END:VCALENDAR