BEGIN:VCALENDAR
VERSION:2.0
PRODID:JMS Hockey
X-PUBLISHED-TTL:P1W
BEGIN:VEVENT
UID:69e75efccf653
DTSTART:20161115T035000Z
SEQUENCE:0
TRANSP:OPAQUE
DTEND:20161115T052000Z
URL:http://jmshockey.com/games/9323
LOCATION:Doug Woog Arena (Wakota)
SUMMARY:Lower Level Game at Doug Woog Arena (Wakota)
CLASS:PUBLIC
DTSTAMP:20260421T062652Z
END:VEVENT
END:VCALENDAR