BEGIN:VCALENDAR
VERSION:2.0
PRODID:JMS Hockey
X-PUBLISHED-TTL:P1W
BEGIN:VEVENT
UID:69e7d48b959e2
DTSTART:20161029T021000Z
SEQUENCE:0
TRANSP:OPAQUE
DTEND:20161029T034000Z
URL:http://jmshockey.com/games/9318
LOCATION:Doug Woog Arena (Wakota)
SUMMARY:Intermediate Game at Doug Woog Arena (Wakota)
CLASS:PUBLIC
DTSTAMP:20260421T144827Z
END:VEVENT
END:VCALENDAR