BEGIN:VCALENDAR
VERSION:2.0
PRODID:JMS Hockey
X-PUBLISHED-TTL:P1W
BEGIN:VEVENT
UID:69e79a05b5fca
DTSTART:20161027T025000Z
SEQUENCE:0
TRANSP:OPAQUE
DTEND:20161027T042000Z
URL:http://jmshockey.com/games/9312
LOCATION:Doug Woog Arena (Wakota)
SUMMARY:Level 3 Game at Doug Woog Arena (Wakota)
CLASS:PUBLIC
DTSTAMP:20260421T103845Z
END:VEVENT
END:VCALENDAR