BEGIN:VCALENDAR
VERSION:2.0
PRODID:JMS Hockey
X-PUBLISHED-TTL:P1W
BEGIN:VEVENT
UID:69e79a013d7cd
DTSTART:20161020T025000Z
SEQUENCE:0
TRANSP:OPAQUE
DTEND:20161020T042000Z
URL:http://jmshockey.com/games/9311
LOCATION:Doug Woog Arena (Wakota)
SUMMARY:Level 3 Game at Doug Woog Arena (Wakota)
CLASS:PUBLIC
DTSTAMP:20260421T103841Z
END:VEVENT
END:VCALENDAR