BEGIN:VCALENDAR
VERSION:2.0
PRODID:JMS Hockey
X-PUBLISHED-TTL:P1W
BEGIN:VEVENT
UID:69e7a309a3060
DTSTART:20161001T013000Z
SEQUENCE:0
TRANSP:OPAQUE
DTEND:20161001T030000Z
URL:http://jmshockey.com/games/9300
LOCATION:Schwan Superrink
SUMMARY:All level Game at Schwan Superrink
CLASS:PUBLIC
DTSTAMP:20260421T111713Z
END:VEVENT
END:VCALENDAR