BEGIN:VCALENDAR
VERSION:2.0
PRODID:JMS Hockey
X-PUBLISHED-TTL:P1W
BEGIN:VEVENT
UID:69e7adea6404b
DTSTART:20160924T023000Z
SEQUENCE:0
TRANSP:OPAQUE
DTEND:20160924T040000Z
URL:http://jmshockey.com/games/9299
LOCATION:Schwan Superrink
SUMMARY:All level Game at Schwan Superrink
CLASS:PUBLIC
DTSTAMP:20260421T120338Z
END:VEVENT
END:VCALENDAR