BEGIN:VCALENDAR
VERSION:2.0
PRODID:JMS Hockey
X-PUBLISHED-TTL:P1W
BEGIN:VEVENT
UID:69e799f9ee35d
DTSTART:20161016T020000Z
SEQUENCE:0
TRANSP:OPAQUE
DTEND:20161016T033000Z
URL:http://jmshockey.com/games/9287
LOCATION:St Thomas Ice Arena
SUMMARY:All level Game at St Thomas Ice Arena
CLASS:PUBLIC
DTSTAMP:20260421T103833Z
END:VEVENT
END:VCALENDAR