BEGIN:VCALENDAR
VERSION:2.0
PRODID:JMS Hockey
X-PUBLISHED-TTL:P1W
BEGIN:VEVENT
UID:69e772fe25330
DTSTART:20161002T015000Z
SEQUENCE:0
TRANSP:OPAQUE
DTEND:20161002T032000Z
URL:http://jmshockey.com/games/9285
LOCATION:St Thomas Ice Arena
SUMMARY:All level Game at St Thomas Ice Arena
CLASS:PUBLIC
DTSTAMP:20260421T075214Z
END:VEVENT
END:VCALENDAR