BEGIN:VCALENDAR
VERSION:2.0
PRODID:JMS Hockey
X-PUBLISHED-TTL:P1W
BEGIN:VEVENT
UID:69e7a73b47472
DTSTART:20161028T024000Z
SEQUENCE:0
TRANSP:OPAQUE
DTEND:20161028T041000Z
URL:http://jmshockey.com/games/9272
LOCATION:St Thomas Ice Arena
SUMMARY:All level Game at St Thomas Ice Arena
CLASS:PUBLIC
DTSTAMP:20260421T113507Z
END:VEVENT
END:VCALENDAR