BEGIN:VCALENDAR
VERSION:2.0
PRODID:JMS Hockey
X-PUBLISHED-TTL:P1W
BEGIN:VEVENT
UID:69e7b76cb41ae
DTSTART:20161007T024000Z
SEQUENCE:0
TRANSP:OPAQUE
DTEND:20161007T041000Z
URL:http://jmshockey.com/games/9269
LOCATION:St Thomas Ice Arena
SUMMARY:All level Game at St Thomas Ice Arena
CLASS:PUBLIC
DTSTAMP:20260421T124412Z
END:VEVENT
END:VCALENDAR