BEGIN:VCALENDAR
VERSION:2.0
PRODID:JMS Hockey
X-PUBLISHED-TTL:P1W
BEGIN:VEVENT
UID:69e77882a41e6
DTSTART:20161021T021500Z
SEQUENCE:0
TRANSP:OPAQUE
DTEND:20161021T034500Z
URL:http://jmshockey.com/games/9253
LOCATION:Maple Grove
SUMMARY:Lower Level Game at Maple Grove
CLASS:PUBLIC
DTSTAMP:20260421T081546Z
END:VEVENT
END:VCALENDAR