BEGIN:VCALENDAR
VERSION:2.0
PRODID:JMS Hockey
X-PUBLISHED-TTL:P1W
BEGIN:VEVENT
UID:69e7ca842cdd7
DTSTART:20091010T010000Z
SEQUENCE:0
TRANSP:OPAQUE
DTEND:20091010T023000Z
URL:http://jmshockey.com/games/925
LOCATION:Highland Arena
SUMMARY:Level 4 Game at Highland Arena
CLASS:PUBLIC
DTSTAMP:20260421T140540Z
END:VEVENT
END:VCALENDAR