BEGIN:VCALENDAR
VERSION:2.0
PRODID:JMS Hockey
X-PUBLISHED-TTL:P1W
BEGIN:VEVENT
UID:69e79f4a5d313
DTSTART:20160819T013000Z
SEQUENCE:0
TRANSP:OPAQUE
DTEND:20160819T030000Z
URL:http://jmshockey.com/games/9230
LOCATION:Maple Grove
SUMMARY:Lower Level Game at Maple Grove
CLASS:PUBLIC
DTSTAMP:20260421T110114Z
END:VEVENT
END:VCALENDAR