BEGIN:VCALENDAR
VERSION:2.0
PRODID:JMS Hockey
X-PUBLISHED-TTL:P1W
BEGIN:VEVENT
UID:69e795a803834
DTSTART:20160923T021000Z
SEQUENCE:0
TRANSP:OPAQUE
DTEND:20160923T034000Z
URL:http://jmshockey.com/games/9218
LOCATION:Woodbury Bielenberg
SUMMARY:Lower Level Game at Woodbury Bielenberg
CLASS:PUBLIC
DTSTAMP:20260421T102008Z
END:VEVENT
END:VCALENDAR