BEGIN:VCALENDAR
VERSION:2.0
PRODID:JMS Hockey
X-PUBLISHED-TTL:P1W
BEGIN:VEVENT
UID:69e7959ac7424
DTSTART:20160902T015000Z
SEQUENCE:0
TRANSP:OPAQUE
DTEND:20160902T032000Z
URL:http://jmshockey.com/games/9216
LOCATION:Woodbury Bielenberg
SUMMARY:Lower Level Game at Woodbury Bielenberg
CLASS:PUBLIC
DTSTAMP:20260421T101954Z
END:VEVENT
END:VCALENDAR