BEGIN:VCALENDAR
VERSION:2.0
PRODID:JMS Hockey
X-PUBLISHED-TTL:P1W
BEGIN:VEVENT
UID:69e79f7114882
DTSTART:20160831T010000Z
SEQUENCE:0
TRANSP:OPAQUE
DTEND:20160831T023000Z
URL:http://jmshockey.com/games/9209
LOCATION:Maple Grove
SUMMARY:Intermediate Game at Maple Grove
CLASS:PUBLIC
DTSTAMP:20260421T110153Z
END:VEVENT
END:VCALENDAR