BEGIN:VCALENDAR
VERSION:2.0
PRODID:JMS Hockey
X-PUBLISHED-TTL:P1W
BEGIN:VEVENT
UID:69e799f7d00e9
DTSTART:20161008T014500Z
SEQUENCE:0
TRANSP:OPAQUE
DTEND:20161008T024500Z
URL:http://jmshockey.com/games/9206
LOCATION:St Louis Park Rec Center
SUMMARY:Novice Game at St Louis Park Rec Center
CLASS:PUBLIC
DTSTAMP:20260421T103831Z
END:VEVENT
END:VCALENDAR