BEGIN:VCALENDAR
VERSION:2.0
PRODID:JMS Hockey
X-PUBLISHED-TTL:P1W
BEGIN:VEVENT
UID:69e7ad710bc32
DTSTART:20160928T030000Z
SEQUENCE:0
TRANSP:OPAQUE
DTEND:20160928T040000Z
URL:http://jmshockey.com/games/9201
LOCATION:St Louis Park Rec Center
SUMMARY:Level 4 Game at St Louis Park Rec Center
CLASS:PUBLIC
DTSTAMP:20260421T120137Z
END:VEVENT
END:VCALENDAR