BEGIN:VCALENDAR
VERSION:2.0
PRODID:JMS Hockey
X-PUBLISHED-TTL:P1W
BEGIN:VEVENT
UID:69e7b9550d95d
DTSTART:20091008T014500Z
SEQUENCE:0
TRANSP:OPAQUE
DTEND:20091008T031500Z
URL:http://jmshockey.com/games/920
LOCATION:Breck Anderson Arena
SUMMARY:Level 3 Game at Breck Anderson Arena
CLASS:PUBLIC
DTSTAMP:20260421T125221Z
END:VEVENT
END:VCALENDAR