BEGIN:VCALENDAR
VERSION:2.0
PRODID:JMS Hockey
X-PUBLISHED-TTL:P1W
BEGIN:VEVENT
UID:69e7c31558444
DTSTART:20160914T030000Z
SEQUENCE:0
TRANSP:OPAQUE
DTEND:20160914T040000Z
URL:http://jmshockey.com/games/9199
LOCATION:St Louis Park Rec Center
SUMMARY:Level 4 Game at St Louis Park Rec Center
CLASS:PUBLIC
DTSTAMP:20260421T133357Z
END:VEVENT
END:VCALENDAR