BEGIN:VCALENDAR
VERSION:2.0
PRODID:JMS Hockey
X-PUBLISHED-TTL:P1W
BEGIN:VEVENT
UID:69e7e6d003721
DTSTART:20091008T011500Z
SEQUENCE:0
TRANSP:OPAQUE
DTEND:20091008T024500Z
URL:http://jmshockey.com/games/919
LOCATION:Doug Woog Arena (Wakota)
SUMMARY:Level 4 Game at Doug Woog Arena (Wakota)
CLASS:PUBLIC
DTSTAMP:20260421T160624Z
END:VEVENT
END:VCALENDAR