BEGIN:VCALENDAR
VERSION:2.0
PRODID:JMS Hockey
X-PUBLISHED-TTL:P1W
BEGIN:VEVENT
UID:69e7adf66085a
DTSTART:20161003T021000Z
SEQUENCE:0
TRANSP:OPAQUE
DTEND:20161003T034000Z
URL:http://jmshockey.com/games/9180
LOCATION:Highland Arena
SUMMARY:All level Game at Highland Arena
CLASS:PUBLIC
DTSTAMP:20260421T120350Z
END:VEVENT
END:VCALENDAR