BEGIN:VCALENDAR
VERSION:2.0
PRODID:JMS Hockey
X-PUBLISHED-TTL:P1W
BEGIN:VEVENT
UID:69e7d8086cc05
DTSTART:20091008T024500Z
SEQUENCE:0
TRANSP:OPAQUE
DTEND:20091008T041500Z
URL:http://jmshockey.com/games/918
LOCATION:Bloomington Ice Gardens
SUMMARY:Level 2 Game at Bloomington Ice Gardens
CLASS:PUBLIC
DTSTAMP:20260421T150320Z
END:VEVENT
END:VCALENDAR