BEGIN:VCALENDAR
VERSION:2.0
PRODID:JMS Hockey
X-PUBLISHED-TTL:P1W
BEGIN:VEVENT
UID:69e7c3826b7de
DTSTART:20161103T163000Z
SEQUENCE:0
TRANSP:OPAQUE
DTEND:20161103T181500Z
URL:http://jmshockey.com/games/9158
LOCATION:Eden Prairie Comm Ctr
SUMMARY:All level Game at Eden Prairie Comm Ctr
CLASS:PUBLIC
DTSTAMP:20260421T133546Z
END:VEVENT
END:VCALENDAR