BEGIN:VCALENDAR
VERSION:2.0
PRODID:JMS Hockey
X-PUBLISHED-TTL:P1W
BEGIN:VEVENT
UID:69e795a5d9aa0
DTSTART:20161006T163000Z
SEQUENCE:0
TRANSP:OPAQUE
DTEND:20161006T181500Z
URL:http://jmshockey.com/games/9154
LOCATION:Eden Prairie Comm Ctr
SUMMARY:All level Game at Eden Prairie Comm Ctr
CLASS:PUBLIC
DTSTAMP:20260421T102005Z
END:VEVENT
END:VCALENDAR